BEGIN:VCALENDAR
VERSION:2.0
PRODID:icalendar-ruby
CALSCALE:GREGORIAN
X-WR-TIMEZONE:Europe/Helsinki
BEGIN:VTIMEZONE
TZID:Europe/Helsinki
BEGIN:DAYLIGHT
DTSTART:20260329T040000
TZOFFSETFROM:+0200
TZOFFSETTO:+0300
RRULE:FREQ=YEARLY;BYDAY=-1SU;BYMONTH=3
TZNAME:EEST
END:DAYLIGHT
BEGIN:STANDARD
DTSTART:20261025T030000
TZOFFSETFROM:+0300
TZOFFSETTO:+0200
RRULE:FREQ=YEARLY;BYDAY=-1SU;BYMONTH=10
TZNAME:EET
END:STANDARD
END:VTIMEZONE
BEGIN:VEVENT
DTSTAMP:20260425T195656
UID:friskis.myclub.fi-9983113
DTSTART;TZID=Europe/Helsinki:20260407T170000
DTEND;TZID=Europe/Helsinki:20260407T180000
DESCRIPTION:Tunneille osallistumiseen ei tarvitse ilmoittautua! Ilmoittaudu
 -valinnan kautta voit ostaa jäsenyyden ja/tai erilaisia liikuntakortteja.
 \n\nhttps://friskis.myclub.fi/flow/events/9983113
LOCATION:F&S-sali Hermanni\, Haukilahdenkatu 2 D\, 00550 Helsinki\, Suomi
SEQUENCE:0
SUMMARY:Friskis&Svettis Helsinki ry: Tanssi / Anu
URL;VALUE=URI:https://friskis.myclub.fi/flow/events/9983113
END:VEVENT
END:VCALENDAR
